BEGIN:VCALENDAR
VERSION:2.0
PRODID:icalendar-ruby
CALSCALE:GREGORIAN
METHOD:PUBLISH
BEGIN:VEVENT
DTSTAMP:20260422T120947Z
UID:5-414851@fullgospelholinesschurch.com
DTSTART:20260927T173000Z
DTEND:20260927T183000Z
CLASS:PUBLIC
CREATED:20260421T182236
DESCRIPTION:Sunday Worship
LAST-MODIFIED:20260421T182236
LOCATION:https://www.theshepherdradio.com/
SUMMARY:Radio Broadcast 
URL;VALUE=URI:https://fullgospelholinesschurch.com/events/radio-broadcast/2
 026-09-27
END:VEVENT
END:VCALENDAR
